BEGIN:VCALENDAR
VERSION:2.0
PRODID:-//wp-events-plugin.com//7.2.3.1//EN
BEGIN:VEVENT
UID:11@zangerliam.nl
DTSTART:20260523T154500Z
DTEND:20260523T190000Z
DTSTAMP:20260307T134620Z
URL:https://www.zangerliam.nl/optredens/zmvv-zeerobben/
SUMMARY:ZMVV Zeerobben
DESCRIPTION:
CATEGORIES:Openbare optreden
LOCATION:ZMVV Zeerobben\, Achlumerdijk 6\, Harlingen\, Fryslân\, 8862AJ \,
  Nederland
X-APPLE-STRUCTURED-LOCATION;VALUE=URI;X-ADDRESS=Achlumerdijk 6\, Harlingen\
 , Fryslân\, 8862AJ \, Nederland;X-APPLE-RADIUS=100;X-TITLE=ZMVV Zeerobben
 :geo:0,0
END:VEVENT
END:VCALENDAR