BEGIN:VCALENDAR
VERSION:2.0
PRODID:-//wp-events-plugin.com//7.2.3.1//EN
BEGIN:VEVENT
UID:17@zangerliam.nl
DTSTART:20260620T150000Z
DTEND:20260620T160000Z
DTSTAMP:20260317T210117Z
URL:https://www.zangerliam.nl/optredens/wijkfeest-westeinde/
SUMMARY:Wijkfeest Westeinde
DESCRIPTION:
CATEGORIES:Openbare optreden
LOCATION:Evenemententerrein Pieter Sipmawei\, Pieter Sipmawei\, Leeuwarden\
 , Fryslân\, 8915 DZ\, Nederland
X-APPLE-STRUCTURED-LOCATION;VALUE=URI;X-ADDRESS=Pieter Sipmawei\, Leeuwarde
 n\, Fryslân\, 8915 DZ\, Nederland;X-APPLE-RADIUS=100;X-TITLE=Evenementent
 errein Pieter Sipmawei:geo:0,0
END:VEVENT
END:VCALENDAR