BEGIN:VCALENDAR
VERSION:2.0
PRODID:-//wp-events-plugin.com//7.2.3.1//EN
BEGIN:VEVENT
UID:21@zangerliam.nl
DTSTART:20260514T150000Z
DTEND:20260514T180000Z
DTSTAMP:20260416T211743Z
URL:https://www.zangerliam.nl/optredens/sc-berlikum-2/
SUMMARY:SC Berlikum
DESCRIPTION:
ATTACH;FMTTYPE=image/jpeg:https://www.zangerliam.nl/wp-content/uploads/202
 6/04/IMG_3563.jpg
CATEGORIES:Openbare optreden
LOCATION:Sportcomplex De Koekoek\, Kwekerijleane 2A\, Berltsum\, Fryslân\,
  9041 ER\, Nederland
X-APPLE-STRUCTURED-LOCATION;VALUE=URI;X-ADDRESS=Kwekerijleane 2A\, Berltsum
 \, Fryslân\, 9041 ER\, Nederland;X-APPLE-RADIUS=100;X-TITLE=Sportcomplex 
 De Koekoek:geo:0,0
END:VEVENT
END:VCALENDAR