BEGIN:VCALENDAR
VERSION:2.0
PRODID:-//wp-events-plugin.com//7.2.3.1//EN
BEGIN:VEVENT
UID:16@zangerliam.nl
DTSTART:20260723T180000Z
DTEND:20260723T224500Z
DTSTAMP:20260314T172434Z
URL:https://www.zangerliam.nl/optredens/paardendagen-driezum-walterswald/
SUMMARY:Paardendagen Driezum – Wâlterswâld
DESCRIPTION:
CATEGORIES:Openbare optreden
LOCATION:Dorpshuis De Nye Warf\, Foarwei 31A\, Wâlterswâld\, Fryslân\, 9
 113 PA\, Nederland
X-APPLE-STRUCTURED-LOCATION;VALUE=URI;X-ADDRESS=Foarwei 31A\, Wâlterswâld
 \, Fryslân\, 9113 PA\, Nederland;X-APPLE-RADIUS=100;X-TITLE=Dorpshuis De 
 Nye Warf:geo:0,0
END:VEVENT
END:VCALENDAR