BEGIN:VCALENDAR
VERSION:2.0
PRODID:-//wp-events-plugin.com//7.2.3.1//EN
BEGIN:VEVENT
UID:15@zangerliam.nl
DTSTART:20261114T183000Z
DTEND:20261114T213000Z
DTSTAMP:20260314T172455Z
URL:https://www.zangerliam.nl/optredens/muziek-festival-friesland/
SUMMARY:Muziek Festival Friesland
DESCRIPTION:
CATEGORIES:Openbare optreden
LOCATION:Sneker Sporthal\, van Giffenstraat 3\, Sneek\, Fryslân\, 8601 EX\
 , Nederland
X-APPLE-STRUCTURED-LOCATION;VALUE=URI;X-ADDRESS=van Giffenstraat 3\, Sneek\
 , Fryslân\, 8601 EX\, Nederland;X-APPLE-RADIUS=100;X-TITLE=Sneker Sportha
 l:geo:0,0
END:VEVENT
END:VCALENDAR