BEGIN:VCALENDAR
VERSION:2.0
PRODID:-//wp-events-plugin.com//7.2.3.1//EN
BEGIN:VEVENT
UID:18@zangerliam.nl
DTSTART:20260427T133000Z
DTEND:20260427T140000Z
DTSTAMP:20260412T173903Z
URL:https://www.zangerliam.nl/optredens/leeuwarder-muziekplein/
SUMMARY:Leeuwarder Muziekplein
DESCRIPTION:
ATTACH;FMTTYPE=image/jpeg:https://www.zangerliam.nl/wp-content/uploads/202
 6/03/signal-2026-03-22-140216_002.jpeg
CATEGORIES:Openbare optreden
LOCATION:Wilhelminaplein\, Wilhelminaplein\, Leeuwarden\, Fryslân \, Neder
 land
X-APPLE-STRUCTURED-LOCATION;VALUE=URI;X-ADDRESS=Wilhelminaplein\, Leeuwarde
 n\, Fryslân \, Nederland;X-APPLE-RADIUS=100;X-TITLE=Wilhelminaplein:geo:0
 ,0
END:VEVENT
END:VCALENDAR