BEGIN:VCALENDAR
VERSION:2.0
PRODID:-//wp-events-plugin.com//7.2.3.1//EN
BEGIN:VEVENT
UID:4@zangerliam.nl
DTSTART:20260606T150000Z
DTEND:20260606T200000Z
DTSTAMP:20260416T211331Z
URL:https://www.zangerliam.nl/optredens/kelderklassetoernooi/
SUMMARY:L.A.C. "Frisia 1883
DESCRIPTION:
CATEGORIES:Openbare optreden
LOCATION:L.A.C. Frisia 1883\, Magere Weide 9\, Leeuwarden\, Fryslân\, 8915
  AV\, Nederland
X-APPLE-STRUCTURED-LOCATION;VALUE=URI;X-ADDRESS=Magere Weide 9\, Leeuwarden
 \, Fryslân\, 8915 AV\, Nederland;X-APPLE-RADIUS=100;X-TITLE=L.A.C. Frisia
  1883:geo:0,0
END:VEVENT
END:VCALENDAR