BEGIN:VCALENDAR
VERSION:2.0
PRODID:-//wp-events-plugin.com//7.2.3.1//EN
BEGIN:VEVENT
UID:14@zangerliam.nl
DTSTART:20260730T183000Z
DTEND:20260730T224500Z
DTSTAMP:20260314T150059Z
URL:https://www.zangerliam.nl/optredens/camping-krolsbergen/
SUMMARY:Camping Krolsbergen
DESCRIPTION:
CATEGORIES:Openbare optreden
LOCATION:Camping Krolsbergen\, Paasloërweg 16\, Paasloo\, Overijssel\, 837
 8 JB\, Nederland
X-APPLE-STRUCTURED-LOCATION;VALUE=URI;X-ADDRESS=Paasloërweg 16\, Paasloo\,
  Overijssel\, 8378 JB\, Nederland;X-APPLE-RADIUS=100;X-TITLE=Camping Krols
 bergen:geo:0,0
END:VEVENT
END:VCALENDAR