BEGIN:VCALENDAR
VERSION:2.0
PRODID:-//wp-events-plugin.com//7.2.3.1//EN
BEGIN:VEVENT
UID:13@zangerliam.nl
DTSTART:20260427T150000Z
DTEND:20260427T153000Z
DTSTAMP:20260421T175022Z
URL:https://www.zangerliam.nl/optredens/cafe-us-mem/
SUMMARY:Café Us Mem
DESCRIPTION:
ATTACH;FMTTYPE=image/jpeg:https://www.zangerliam.nl/wp-content/uploads/202
 6/03/signal-2026-04-21-194810_002.jpeg
CATEGORIES:Openbare optreden
LOCATION:Café Us Mem\, Bij de Put 6\, Leeuwarden\, Fryslân\, 8911 GG\, Ne
 derland
X-APPLE-STRUCTURED-LOCATION;VALUE=URI;X-ADDRESS=Bij de Put 6\, Leeuwarden\,
  Fryslân\, 8911 GG\, Nederland;X-APPLE-RADIUS=100;X-TITLE=Café Us Mem:ge
 o:0,0
END:VEVENT
END:VCALENDAR