BEGIN:VCALENDAR
VERSION:2.0
PRODID:-//wp-events-plugin.com//7.2.3.1//EN
BEGIN:VEVENT
UID:6@zangerliam.nl
DTSTART:20260427T183000Z
DTEND:20260427T190000Z
DTSTAMP:20260314T143345Z
URL:https://www.zangerliam.nl/optredens/cafe-pietje-bell/
SUMMARY:Café Pietje Bell
DESCRIPTION:
ATTACH;FMTTYPE=image/jpeg:https://www.zangerliam.nl/wp-content/uploads/202
 6/02/IMG_3090.jpg
CATEGORIES:Openbare optreden
LOCATION:Café Pietje Bell\, Zuidkade 18\, Drachten\, Fryslân\, 9203 CK\, 
 Nederland
X-APPLE-STRUCTURED-LOCATION;VALUE=URI;X-ADDRESS=Zuidkade 18\, Drachten\, Fr
 yslân\, 9203 CK\, Nederland;X-APPLE-RADIUS=100;X-TITLE=Café Pietje Bell:
 geo:0,0
END:VEVENT
END:VCALENDAR