BEGIN:VCALENDAR
VERSION:2.0
PRODID:-//wp-events-plugin.com//7.2.3.1//EN
BEGIN:VEVENT
UID:10@zangerliam.nl
DTSTART:20260426T153000Z
DTEND:20260426T210000Z
DTSTAMP:20260314T150133Z
URL:https://www.zangerliam.nl/optredens/bar-cafe-claus/
SUMMARY:Bar / Café Claus
DESCRIPTION:
ATTACH;FMTTYPE=image/jpeg:https://www.zangerliam.nl/wp-content/uploads/202
 6/03/26cbfaab-8453-48e3-80ec-676a90b2c76c.jpg
CATEGORIES:Openbare optreden
LOCATION:Bar / Café Claus\,  Gaspeldoornstraat 1\, Leeuwarden\, Fryslân\,
  8924 AS\, Nederland
X-APPLE-STRUCTURED-LOCATION;VALUE=URI;X-ADDRESS= Gaspeldoornstraat 1\, Leeu
 warden\, Fryslân\, 8924 AS\, Nederland;X-APPLE-RADIUS=100;X-TITLE=Bar / C
 afé Claus:geo:0,0
END:VEVENT
END:VCALENDAR